BEGIN:VCALENDAR
VERSION:2.0
PRODID:-//My Calendar//http://www.joedolson.com//v3.1.14//EN
METHOD:PUBLISH
CALSCALE:GREGORIAN
X-WR-CALNAME:Highridge Water Authority
X-PUBLISHED-TTL:PT24H
REFRESH-INTERVAL;VALUE=DURATION:PT24H
X-WR-CALDESC:Events from Highridge Water Authority
BEGIN:VEVENT
UID:364-115
LOCATION:
SUMMARY:BR VALLEY &amp; CENTER TWP
DTSTAMP:20240520T000000
ORGANIZER;CN=Colleen:MAILTO:cmarino@highridgewater.org
DTSTART;TZID=Etc/GMT+0:20240520T000000
DTEND;TZID=Etc/GMT+0:20240525T000000
URL;VALUE=URI:http://www.highridgewater.org/hwa-calendar/
DESCRIPTION:BRUSH VALLEY, HINER, VALLEY VIEW, CLAGHORN, RT 56, RT 259, ONDO, OLD MISSION, SNYDER, ROUNDTOP, EVANS, DOUGLASS, CRESSWELL, MYERS &amp; APPLEDALEACCT #'S BEGINNING WITH 47 &amp; 48 
CATEGORIES:General
X-FUNAMBOL-ALLDAY: 1
X-MICROSOFT-CDO-ALLDAYEVENT: TRUE

END:VEVENT
BEGIN:VEVENT
UID:363-114
LOCATION:
SUMMARY:BURRELL TWP - SMITH PLAN
DTSTAMP:20240520T000000
ORGANIZER;CN=Colleen:MAILTO:cmarino@highridgewater.org
DTSTART;TZID=Etc/GMT+0:20240520T000000
DTEND;TZID=Etc/GMT+0:20240525T000000
URL;VALUE=URI:http://www.highridgewater.org/hwa-calendar/
DESCRIPTION:CORNELL RD, SMITH PLAN, TRI STAR, WYOTECH CAMPUSACCT #'S BEGINNING WITH  65 
CATEGORIES:General
X-FUNAMBOL-ALLDAY: 1
X-MICROSOFT-CDO-ALLDAYEVENT: TRUE

END:VEVENT
BEGIN:VEVENT
UID:368-113
LOCATION:
SUMMARY:BUFFINGTON &amp; BR VALLEY
DTSTAMP:20240513T000000
ORGANIZER;CN=Colleen:MAILTO:cmarino@highridgewater.org
DTSTART;TZID=Etc/GMT+0:20240513T000000
DTEND;TZID=Etc/GMT+0:20240518T000000
URL;VALUE=URI:http://www.highridgewater.org/hwa-calendar/
DESCRIPTION:RIDGE, STILES, CAMERON, MICHAELS, SPRUCE HOLLOW, LITTLETOWN, ONEIDA MINE, BRUSH CREEK &amp; LONGSACCT #'S BEGINNING WITH 45, 46 &amp; 47 
CATEGORIES:General
X-FUNAMBOL-ALLDAY: 1
X-MICROSOFT-CDO-ALLDAYEVENT: TRUE

END:VEVENT
BEGIN:VEVENT
UID:362-112
LOCATION:
SUMMARY:BURRELL TWP - BLACKLICK TO CENTER TWP LINE
DTSTAMP:20240513T000000
ORGANIZER;CN=Colleen:MAILTO:cmarino@highridgewater.org
DTSTART;TZID=Etc/GMT+0:20240513T000000
DTEND;TZID=Etc/GMT+0:20240518T000000
URL;VALUE=URI:http://www.highridgewater.org/hwa-calendar/
DESCRIPTION:BLACKLICK, PALMERTON, JOSEPHINEACCT #'S BEGINNING WITH 61, 62 &amp; 63 
CATEGORIES:General
X-FUNAMBOL-ALLDAY: 1
X-MICROSOFT-CDO-ALLDAYEVENT: TRUE

END:VEVENT
BEGIN:VEVENT
UID:365-111
LOCATION:
SUMMARY:BURRELL TWP - RT 119
DTSTAMP:20240506T000000
ORGANIZER;CN=Colleen:MAILTO:cmarino@highridgewater.org
DTSTART;TZID=Etc/GMT+0:20240506T000000
DTEND;TZID=Etc/GMT+0:20240511T000000
URL;VALUE=URI:http://www.highridgewater.org/hwa-calendar/
DESCRIPTION:MARSHALL HTS, RT 119, BLAIR RD, SNYDER LNACCT #'S BEGINNING WITH 64 
CATEGORIES:General
X-FUNAMBOL-ALLDAY: 1
X-MICROSOFT-CDO-ALLDAYEVENT: TRUE

END:VEVENT
BEGIN:VEVENT
UID:372-87
LOCATION:
SUMMARY:WEST WHEAT TWP - ROBINSON TO RT 22
DTSTAMP:20240506T000000
ORGANIZER;CN=Colleen:MAILTO:cmarino@highridgewater.org
DTSTART;TZID=Etc/GMT+0:20240506T000000
DTEND;TZID=Etc/GMT+0:20240509T000000
URL;VALUE=URI:http://www.highridgewater.org/hwa-calendar/
DESCRIPTION:TOWN OF ROBINSON, RT 259, JERICHO, FORSYTE RD, PENROSE HOLLOWAccount numbers beginning with 39 - 41 
CATEGORIES:General
X-FUNAMBOL-ALLDAY: 1
X-MICROSOFT-CDO-ALLDAYEVENT: TRUE

END:VEVENT
BEGIN:VEVENT
UID:371-110
LOCATION:
SUMMARY:DERRY TWP - SUNDIAL
DTSTAMP:20240422T000000
ORGANIZER;CN=Colleen:MAILTO:cmarino@highridgewater.org
DTSTART;TZID=Etc/GMT+0:20240422T000000
DTEND;TZID=Etc/GMT+0:20240427T000000
URL;VALUE=URI:http://www.highridgewater.org/hwa-calendar/
DESCRIPTION:ACCT #'S BEGINNING WITH 50 
CATEGORIES:General
X-FUNAMBOL-ALLDAY: 1
X-MICROSOFT-CDO-ALLDAYEVENT: TRUE

END:VEVENT
BEGIN:VEVENT
UID:370-106
LOCATION:
SUMMARY:EAST WHEAT TWP &amp; CLYDE
DTSTAMP:20240422T000000
ORGANIZER;CN=Colleen:MAILTO:cmarino@highridgewater.org
DTSTART;TZID=Etc/GMT+0:20240422T000000
DTEND;TZID=Etc/GMT+0:20240427T000000
URL;VALUE=URI:http://www.highridgewater.org/hwa-calendar/
DESCRIPTION:SHELLBARK, FOX, BILL DICK &amp; UNITED SCHOOLSACCT #'S BEGINNING WITH 27, 34 &amp; 35 
CATEGORIES:General
X-FUNAMBOL-ALLDAY: 1
X-MICROSOFT-CDO-ALLDAYEVENT: TRUE

END:VEVENT
BEGIN:VEVENT
UID:369-105
LOCATION:
SUMMARY:WEST WHEAT TWP - SHADY GROVE TO CLYDE
DTSTAMP:20240422T000000
ORGANIZER;CN=Colleen:MAILTO:cmarino@highridgewater.org
DTSTART;TZID=Etc/GMT+0:20240422T000000
DTEND;TZID=Etc/GMT+0:20240427T000000
URL;VALUE=URI:http://www.highridgewater.org/hwa-calendar/
DESCRIPTION:SHADY GROVE, CLYDE, RT 22ACCT #'S BEGINNING WITH 35 &amp; 42 
CATEGORIES:General
X-FUNAMBOL-ALLDAY: 1
X-MICROSOFT-CDO-ALLDAYEVENT: TRUE

END:VEVENT
BEGIN:VEVENT
UID:366-109
LOCATION:
SUMMARY:EAST WHEAT &amp; BUFFINGTON
DTSTAMP:20240429T000000
ORGANIZER;CN=Colleen:MAILTO:cmarino@highridgewater.org
DTSTART;TZID=Etc/GMT+0:20240429T000000
DTEND;TZID=Etc/GMT+0:20240504T000000
URL;VALUE=URI:http://www.highridgewater.org/hwa-calendar/
DESCRIPTION:GAS CENTER, STUTZMAN, DILLTOWN, MOOSEHILL, RIVERACCT #'S BEGINNING WITH 31 - 33 
CATEGORIES:General
X-FUNAMBOL-ALLDAY: 1
X-MICROSOFT-CDO-ALLDAYEVENT: TRUE

END:VEVENT
BEGIN:VEVENT
UID:367-108
LOCATION:
SUMMARY:BURRELL TWP - OLD WM PENN HWY
DTSTAMP:20240429T000000
ORGANIZER;CN=Colleen:MAILTO:cmarino@highridgewater.org
DTSTART;TZID=Etc/GMT+0:20240429T000000
DTEND;TZID=Etc/GMT+0:20240504T000000
URL;VALUE=URI:http://www.highridgewater.org/hwa-calendar/
DESCRIPTION:OLD RT 22, MAPLE AVE, COMFORT &amp; HAMPTON INN, IRMC, RESORTACCT #'S BEGINNING WITH 66 
CATEGORIES:General
X-FUNAMBOL-ALLDAY: 1
X-MICROSOFT-CDO-ALLDAYEVENT: TRUE

END:VEVENT
BEGIN:VEVENT
UID:360-104
LOCATION:
SUMMARY:CLIMAX &amp; LV SCHOOL
DTSTAMP:20240404T000000
ORGANIZER;CN=Colleen:MAILTO:cmarino@highridgewater.org
DTSTART;TZID=Etc/GMT+0:20240404T000000
DTEND;TZID=Etc/GMT+0:20240405T000000
URL;VALUE=URI:http://www.highridgewater.org/hwa-calendar/
DESCRIPTION:ACCT # BEGINNING WITH 24 &amp; 01 
CATEGORIES:General
X-FUNAMBOL-ALLDAY: 1
X-MICROSOFT-CDO-ALLDAYEVENT: TRUE

END:VEVENT
BEGIN:VEVENT
UID:359-103
LOCATION:
SUMMARY:PENNVIEW AREA &amp; BURRELL TWP
DTSTAMP:20240401T000000
ORGANIZER;CN=Colleen:MAILTO:cmarino@highridgewater.org
DTSTART;TZID=Etc/GMT+0:20240401T000000
DTEND;TZID=Etc/GMT+0:20240404T000000
URL;VALUE=URI:http://www.highridgewater.org/hwa-calendar/
DESCRIPTION:PENNVIEW / FAIRFIELD &amp; MARSHALL HEIGHTSACCT #'S BEGINNING WITH 44, 627 &amp; 6404 - 6409 
CATEGORIES:General
X-FUNAMBOL-ALLDAY: 1
X-MICROSOFT-CDO-ALLDAYEVENT: TRUE

END:VEVENT
BEGIN:VEVENT
UID:358-102
LOCATION:
SUMMARY:HIGH PRESSURE - UPPER SEWARD
DTSTAMP:20240401T000000
ORGANIZER;CN=Colleen:MAILTO:cmarino@highridgewater.org
DTSTART;TZID=Etc/GMT+0:20240401T000000
DTEND;TZID=Etc/GMT+0:20240404T000000
URL;VALUE=URI:http://www.highridgewater.org/hwa-calendar/
DESCRIPTION:ACCT #'S BEGINNING WITH 16 - 18 
CATEGORIES:General
X-FUNAMBOL-ALLDAY: 1
X-MICROSOFT-CDO-ALLDAYEVENT: TRUE

END:VEVENT
BEGIN:VEVENT
UID:357-101
LOCATION:
SUMMARY:ST CLAIR MANOR, RT 711 &amp; ROBB
DTSTAMP:20240328T000000
ORGANIZER;CN=Colleen:MAILTO:cmarino@highridgewater.org
DTSTART;TZID=Etc/GMT+0:20240328T000000
DTEND;TZID=Etc/GMT+0:20240330T000000
URL;VALUE=URI:http://www.highridgewater.org/hwa-calendar/
DESCRIPTION:ACCT #'S BEGINNING WITH 01 &amp; 06 
CATEGORIES:General
X-FUNAMBOL-ALLDAY: 1
X-MICROSOFT-CDO-ALLDAYEVENT: TRUE

END:VEVENT
BEGIN:VEVENT
UID:356-100
LOCATION:
SUMMARY:HILLSIDE, RT 217, W DERRY
DTSTAMP:20240326T000000
ORGANIZER;CN=Colleen:MAILTO:cmarino@highridgewater.org
DTSTART;TZID=Etc/GMT+0:20240326T000000
DTEND;TZID=Etc/GMT+0:20240330T000000
URL;VALUE=URI:http://www.highridgewater.org/hwa-calendar/
DESCRIPTION:ACCT #S BEGINNING WITH 02, 03 &amp; 04 
CATEGORIES:General
X-FUNAMBOL-ALLDAY: 1
X-MICROSOFT-CDO-ALLDAYEVENT: TRUE

END:VEVENT
BEGIN:VEVENT
UID:355-99
LOCATION:
SUMMARY:CHARLES TO CRAMER
DTSTAMP:20240325T000000
ORGANIZER;CN=Colleen:MAILTO:cmarino@highridgewater.org
DTSTART;TZID=Etc/GMT+0:20240325T000000
DTEND;TZID=Etc/GMT+0:20240328T000000
URL;VALUE=URI:http://www.highridgewater.org/hwa-calendar/
DESCRIPTION:ACCOUNT NUMBERS BEGINNING WITH 12, 13 &amp; 17 
CATEGORIES:General
X-FUNAMBOL-ALLDAY: 1
X-MICROSOFT-CDO-ALLDAYEVENT: TRUE

END:VEVENT
BEGIN:VEVENT
UID:354-98
LOCATION:
SUMMARY:TORRANCE
DTSTAMP:20240325T000000
ORGANIZER;CN=Colleen:MAILTO:cmarino@highridgewater.org
DTSTART;TZID=Etc/GMT+0:20240325T000000
DTEND;TZID=Etc/GMT+0:20240326T000000
URL;VALUE=URI:http://www.highridgewater.org/hwa-calendar/
DESCRIPTION:ACCOUNT #'S BEGINNING WITH 02 
CATEGORIES:General
X-FUNAMBOL-ALLDAY: 1
X-MICROSOFT-CDO-ALLDAYEVENT: TRUE

END:VEVENT
BEGIN:VEVENT
UID:352-93
LOCATION:
SUMMARY:NEW FLORENCE AREA
DTSTAMP:20240318T000000
ORGANIZER;CN=Colleen:MAILTO:cmarino@highridgewater.org
DTSTART;TZID=Etc/GMT+0:20240318T000000
DTEND;TZID=Etc/GMT+0:20240323T000000
URL;VALUE=URI:http://www.highridgewater.org/hwa-calendar/
DESCRIPTION:NEW FLORENCE, SQUIRREL HILL, FURNACE LN, NORTHVIEW HGHTSACCT #'S BEGINNING WITH 55 TO 58 
CATEGORIES:General
X-FUNAMBOL-ALLDAY: 1
X-MICROSOFT-CDO-ALLDAYEVENT: TRUE

END:VEVENT
BEGIN:VEVENT
UID:350-72
LOCATION:
SUMMARY:MAINLINE TORRANCE TO BLAIRSVILLE
DTSTAMP:20240318T000000
ORGANIZER;CN=Colleen:MAILTO:cmarino@highridgewater.org
DTSTART;TZID=Etc/GMT+0:20240318T000000
DTEND;TZID=Etc/GMT+0:20240319T000000
URL;VALUE=URI:http://www.highridgewater.org/hwa-calendar/
DESCRIPTION:LAMANTIA LNACCT # 050395A &amp; 050365A 
CATEGORIES:General
X-FUNAMBOL-ALLDAY: 1
X-MICROSOFT-CDO-ALLDAYEVENT: TRUE

END:VEVENT
BEGIN:VEVENT
UID:351-71
LOCATION:
SUMMARY:SEWARD BORO &amp; ST CLAIR TWP
DTSTAMP:20240318T000000
ORGANIZER;CN=Colleen:MAILTO:cmarino@highridgewater.org
DTSTART;TZID=Etc/GMT+0:20240318T000000
DTEND;TZID=Etc/GMT+0:20240320T000000
URL;VALUE=URI:http://www.highridgewater.org/hwa-calendar/
DESCRIPTION:LOWER SEWARD &amp; EAST SEWARDACCT #'S BEGINNING WITH 14, 15, 16 
CATEGORIES:General
X-FUNAMBOL-ALLDAY: 1
X-MICROSOFT-CDO-ALLDAYEVENT: TRUE

END:VEVENT
BEGIN:VEVENT
UID:374-86
LOCATION:
SUMMARY:DERRY TWP - BAIRDSTOWN TO WESTINGHOUSE
DTSTAMP:20240415T000000
ORGANIZER;CN=Colleen:MAILTO:cmarino@highridgewater.org
DTSTART;TZID=Etc/GMT+0:20240415T000000
DTEND;TZID=Etc/GMT+0:20240418T000000
URL;VALUE=URI:http://www.highridgewater.org/hwa-calendar/
DESCRIPTION:BAIRDSTOWN, RT 22, WESTINGHOUSE AREAACCT #'S BEGINNING WITH 30 
CATEGORIES:General
X-FUNAMBOL-ALLDAY: 1
X-MICROSOFT-CDO-ALLDAYEVENT: TRUE

END:VEVENT
BEGIN:VEVENT
UID:373-84
LOCATION:
SUMMARY:BOLIVAR &amp; WEST BOLIVAR
DTSTAMP:20240415T000000
ORGANIZER;CN=Colleen:MAILTO:cmarino@highridgewater.org
DTSTART;TZID=Etc/GMT+0:20240415T000000
DTEND;TZID=Etc/GMT+0:20240420T000000
URL;VALUE=URI:http://www.highridgewater.org/hwa-calendar/
DESCRIPTION:ACCT #'S BEGINNING WITH 07, 08, 09, 10, 11&nbsp; 
CATEGORIES:General
X-FUNAMBOL-ALLDAY: 1
X-MICROSOFT-CDO-ALLDAYEVENT: TRUE

END:VEVENT
BEGIN:VEVENT
UID:375-83
LOCATION:
SUMMARY:WEST WHEATFIELD TWP
DTSTAMP:20240411T000000
ORGANIZER;CN=Colleen:MAILTO:cmarino@highridgewater.org
DTSTART;TZID=Etc/GMT+0:20240411T000000
DTEND;TZID=Etc/GMT+0:20240413T000000
URL;VALUE=URI:http://www.highridgewater.org/hwa-calendar/
DESCRIPTION:GERMANY LUTHERAN CEM RD, MULLIGAN HILL, GAMBLE RDACCT #'S BEGINNING WITH 43 
CATEGORIES:General
X-FUNAMBOL-ALLDAY: 1
X-MICROSOFT-CDO-ALLDAYEVENT: TRUE

END:VEVENT
BEGIN:VEVENT
UID:377-82
LOCATION:
SUMMARY:ARMAGH AREA
DTSTAMP:20240408T000000
ORGANIZER;CN=Colleen:MAILTO:cmarino@highridgewater.org
DTSTART;TZID=Etc/GMT+0:20240408T000000
DTEND;TZID=Etc/GMT+0:20240411T000000
URL;VALUE=URI:http://www.highridgewater.org/hwa-calendar/
DESCRIPTION:RT 56, ROBINDALE &amp; HUNTER'S RUN MOBILE HOME PARKACCT #'S BEGINNING WITH 27, 28 &amp; 29 
CATEGORIES:General
X-FUNAMBOL-ALLDAY: 1
X-MICROSOFT-CDO-ALLDAYEVENT: TRUE

END:VEVENT
BEGIN:VEVENT
UID:376-81
LOCATION:
SUMMARY:DERRY TWP - GRAY STATION-BRENIZER
DTSTAMP:20240408T000000
ORGANIZER;CN=Colleen:MAILTO:cmarino@highridgewater.org
DTSTART;TZID=Etc/GMT+0:20240408T000000
DTEND;TZID=Etc/GMT+0:20240411T000000
URL;VALUE=URI:http://www.highridgewater.org/hwa-calendar/
DESCRIPTION:DERRY TWP - BRENIZER, GRAY STATION, WILLOW RUN, PIZZA BARN, COKEVILLE, RT 217ACCT #'S BEGINNING WITH 22, 23 &amp; 26 
CATEGORIES:General
X-FUNAMBOL-ALLDAY: 1
X-MICROSOFT-CDO-ALLDAYEVENT: TRUE

END:VEVENT
BEGIN:VEVENT
UID:353-79
LOCATION:
SUMMARY:BURRELL TWP
DTSTAMP:20240320T000000
ORGANIZER;CN=Colleen:MAILTO:cmarino@highridgewater.org
DTSTART;TZID=Etc/GMT+0:20240320T000000
DTEND;TZID=Etc/GMT+0:20240323T000000
URL;VALUE=URI:http://www.highridgewater.org/hwa-calendar/
DESCRIPTION:SHEARWOOD TERRACE, RT 217, HIGHRISE, TURNERACCT #'S BEGINNING WITH 68 
CATEGORIES:General
X-FUNAMBOL-ALLDAY: 1
X-MICROSOFT-CDO-ALLDAYEVENT: TRUE

END:VEVENT
BEGIN:VEVENT
UID:361-73
LOCATION:
SUMMARY:BURRELL TWP - STRANGFORD
DTSTAMP:20240405T000000
ORGANIZER;CN=Colleen:MAILTO:cmarino@highridgewater.org
DTSTART;TZID=Etc/GMT+0:20240405T000000
DTEND;TZID=Etc/GMT+0:20240406T000000
URL;VALUE=URI:http://www.highridgewater.org/hwa-calendar/
DESCRIPTION:HELENA RD, STRANGFORD, OAKS POINT, CHESTNUT RIDGEACCT #'S BEGINNING WITH 25 
CATEGORIES:General
X-FUNAMBOL-ALLDAY: 1
X-MICROSOFT-CDO-ALLDAYEVENT: TRUE

END:VEVENT
END:VCALENDAR